BEGIN:VCALENDAR
VERSION:2.0
METHOD:PUBLISH
X-WR-CALNAME;VALUE=TEXT:Agenda #3845
PRODID:-//Drupal iCal API//EN
BEGIN:VEVENT
SUMMARY: Salon Mix &amp; Match à Besançon
DTSTART: 20211021T070000
DTEND: 20211021T100000
DESCRIPTION: Mix&amp;Match est un événement de promotion de l’égalité et de la mixité professionnelle qui permet à des femmes en recherche d’emploi et/ou en projet de reconversion de rencontrer des professionnelles ayant choisi une carrière peu féminisée et à des entreprises de mettre en lumière leurs démarches en faveur de l’égalité.
END:VEVENT
BEGIN:VEVENT
SUMMARY: Salon Mix &amp; Match à Besançon
DTSTART: 20211021T070000
DTEND: 20211021T100000
DESCRIPTION: Mix&amp;Match est un événement de promotion de l’égalité et de la mixité professionnelle qui permet à des femmes en recherche d’emploi et/ou en projet de reconversion de rencontrer des professionnelles ayant choisi une carrière peu féminisée et à des entreprises de mettre en lumière leurs démarches en faveur de l’égalité.
END:VEVENT
END:VCALENDAR
