BEGIN:VCALENDAR
VERSION:2.0
METHOD:PUBLISH
X-WR-CALNAME;VALUE=TEXT:Agenda #3847
PRODID:-//Drupal iCal API//EN
BEGIN:VEVENT
SUMMARY: Focus Métiers Spécial Transport de Voyageurs (Alsace)
DTSTART: 20211013T120000
DTEND: 20211013T133000
DESCRIPTION: Ne manquez pas notre Focus Métiers Spécial Transport de Voyageurs en Alsace !

Conférence en ligne (webinars) d'une durée de 1h30 pour découvrir les métiers de la Conduite Routière&nbsp;en Transport de Voyageurs.
END:VEVENT
BEGIN:VEVENT
SUMMARY: Focus Métiers Spécial Transport de Voyageurs (Alsace)
DTSTART: 20211013T120000
DTEND: 20211013T133000
DESCRIPTION: Ne manquez pas notre Focus Métiers Spécial Transport de Voyageurs en Alsace !

Conférence en ligne (webinars) d'une durée de 1h30 pour découvrir les métiers de la Conduite Routière&nbsp;en Transport de Voyageurs.
END:VEVENT
BEGIN:VEVENT
SUMMARY: Focus Métiers Spécial Transport de Voyageurs (Alsace)
DTSTART: 20211013T120000
DTEND: 20211013T133000
DESCRIPTION: Ne manquez pas notre Focus Métiers Spécial Transport de Voyageurs en Alsace !

Conférence en ligne (webinars) d'une durée de 1h30 pour découvrir les métiers de la Conduite Routière&nbsp;en Transport de Voyageurs.
END:VEVENT
END:VCALENDAR
