BEGIN:VCALENDAR
VERSION:2.0
METHOD:PUBLISH
X-WR-CALNAME;VALUE=TEXT:Agenda #3849
PRODID:-//Drupal iCal API//EN
BEGIN:VEVENT
SUMMARY: Focus Métiers Spécial Conduite le 20 octobre dans le Grand Est
DTSTART: 20211020T080000
DTEND: 20211020T093000
DESCRIPTION: Conférence&nbsp;en ligne (webinars) d'une durée de 1h30 pour découvrir les métiers de la Conduite Routière en Transport de&nbsp;Marchandises, en Transport de Voyageurs et en Transport Sanitaire.
END:VEVENT
BEGIN:VEVENT
SUMMARY: Focus Métiers Spécial Conduite le 20 octobre dans le Grand Est
DTSTART: 20211020T080000
DTEND: 20211020T093000
DESCRIPTION: Conférence&nbsp;en ligne (webinars) d'une durée de 1h30 pour découvrir les métiers de la Conduite Routière en Transport de&nbsp;Marchandises, en Transport de Voyageurs et en Transport Sanitaire.
END:VEVENT
BEGIN:VEVENT
SUMMARY: Focus Métiers Spécial Conduite le 20 octobre dans le Grand Est
DTSTART: 20211020T080000
DTEND: 20211020T093000
DESCRIPTION: Conférence&nbsp;en ligne (webinars) d'une durée de 1h30 pour découvrir les métiers de la Conduite Routière en Transport de&nbsp;Marchandises, en Transport de Voyageurs et en Transport Sanitaire.
END:VEVENT
END:VCALENDAR
