BEGIN:VCALENDAR
VERSION:2.0
METHOD:PUBLISH
X-WR-CALNAME;VALUE=TEXT:Agenda #3850
PRODID:-//Drupal iCal API//EN
BEGIN:VEVENT
SUMMARY: Grand Est : le 16 décembre, focus Métiers Spécial Conduite
DTSTART: 20211216T090000
DTEND: 20211216T103000
DESCRIPTION: Conférence&nbsp;en ligne (webinars) d'une durée de 1h30 pour découvrir les métiers de la Conduite Routière en Transport de&nbsp;Marchandises, en Transport de Voyageurs et en Transport Sanitaire.
END:VEVENT
BEGIN:VEVENT
SUMMARY: Grand Est : le 16 décembre, focus Métiers Spécial Conduite
DTSTART: 20211216T090000
DTEND: 20211216T103000
DESCRIPTION: Conférence&nbsp;en ligne (webinars) d'une durée de 1h30 pour découvrir les métiers de la Conduite Routière en Transport de&nbsp;Marchandises, en Transport de Voyageurs et en Transport Sanitaire.
END:VEVENT
BEGIN:VEVENT
SUMMARY: Grand Est : le 16 décembre, focus Métiers Spécial Conduite
DTSTART: 20211216T090000
DTEND: 20211216T103000
DESCRIPTION: Conférence&nbsp;en ligne (webinars) d'une durée de 1h30 pour découvrir les métiers de la Conduite Routière en Transport de&nbsp;Marchandises, en Transport de Voyageurs et en Transport Sanitaire.
END:VEVENT
END:VCALENDAR
