BEGIN:VCALENDAR
VERSION:2.0
METHOD:PUBLISH
X-WR-CALNAME;VALUE=TEXT:Agenda #3852
PRODID:-//Drupal iCal API//EN
BEGIN:VEVENT
SUMMARY: Nouveau partenariat DAQ 2.0 Beaune
DTSTART: 20211020T070000
DTEND: 20211020T100000
DESCRIPTION: Après plusieurs interventions dans le cadre du dispositif DAQ 2.0 à&nbsp;Montbard et Chatillon, le GRETA 21 souhaite mettre en place des présentations des secteurs d'activité du bassin d'emploi beaunois sur le DAQ 2.0 de Beaune.

La première intervention commune GRETA 21/AFT aura lieu mercredi 20&nbsp; octobre au Lycée Etienne-Jules Marey de Beaune.
END:VEVENT
END:VCALENDAR
