BEGIN:VCALENDAR
VERSION:2.0
METHOD:PUBLISH
X-WR-CALNAME;VALUE=TEXT:Agenda #3854
PRODID:-//Drupal iCal API//EN
BEGIN:VEVENT
SUMMARY: Grand Est : Focus Métiers Spécial Logistique le 1er décembre
DTSTART: 20211201T090000
DTEND: 20211201T103000
DESCRIPTION: Conférence&nbsp;en ligne (webinars) d'une durée de 1h30 pour découvrir les métiers d'opérateur&nbsp;logistique.
END:VEVENT
BEGIN:VEVENT
SUMMARY: Grand Est : Focus Métiers Spécial Logistique le 1er décembre
DTSTART: 20211201T090000
DTEND: 20211201T103000
DESCRIPTION: Conférence&nbsp;en ligne (webinars) d'une durée de 1h30 pour découvrir les métiers d'opérateur&nbsp;logistique.
END:VEVENT
BEGIN:VEVENT
SUMMARY: Grand Est : Focus Métiers Spécial Logistique le 1er décembre
DTSTART: 20211201T090000
DTEND: 20211201T103000
DESCRIPTION: Conférence&nbsp;en ligne (webinars) d'une durée de 1h30 pour découvrir les métiers d'opérateur&nbsp;logistique.
END:VEVENT
END:VCALENDAR
