BEGIN:VCALENDAR
VERSION:2.0
METHOD:PUBLISH
X-WR-CALNAME;VALUE=TEXT:Agenda #3855
PRODID:-//Drupal iCal API//EN
BEGIN:VEVENT
SUMMARY: Grand Est : Focus Métiers Spécial Transport de Voyageurs et Sanitaire
DTSTART: 20211119T130000
DTEND: 20211119T143000
DESCRIPTION: Conférences en ligne (webinars) d'une durée de 1h30 pour&nbsp;découvrir les métiers de la Conduite Routière &nbsp;en Transport de Voyageurs et Sanitaire.
END:VEVENT
BEGIN:VEVENT
SUMMARY: Grand Est : Focus Métiers Spécial Transport de Voyageurs et Sanitaire
DTSTART: 20211119T130000
DTEND: 20211119T143000
DESCRIPTION: Conférences en ligne (webinars) d'une durée de 1h30 pour&nbsp;découvrir les métiers de la Conduite Routière &nbsp;en Transport de Voyageurs et Sanitaire.
END:VEVENT
BEGIN:VEVENT
SUMMARY: Grand Est : Focus Métiers Spécial Transport de Voyageurs et Sanitaire
DTSTART: 20211119T130000
DTEND: 20211119T143000
DESCRIPTION: Conférences en ligne (webinars) d'une durée de 1h30 pour&nbsp;découvrir les métiers de la Conduite Routière &nbsp;en Transport de Voyageurs et Sanitaire.
END:VEVENT
END:VCALENDAR
