BEGIN:VCALENDAR
VERSION:2.0
METHOD:PUBLISH
X-WR-CALNAME;VALUE=TEXT:Agenda #3856
PRODID:-//Drupal iCal API//EN
BEGIN:VEVENT
SUMMARY: Grand Est : Focus Métiers Spécial Déménageur
DTSTART: 20211214T090000
DTEND: 20211214T103000
DESCRIPTION: Conférence en ligne (webinars) d'une durée de 1h30 pour découvrir les métiers du déménagement.&nbsp;
END:VEVENT
BEGIN:VEVENT
SUMMARY: Grand Est : Focus Métiers Spécial Déménageur
DTSTART: 20211214T090000
DTEND: 20211214T103000
DESCRIPTION: Conférence en ligne (webinars) d'une durée de 1h30 pour découvrir les métiers du déménagement.&nbsp;
END:VEVENT
BEGIN:VEVENT
SUMMARY: Grand Est : Focus Métiers Spécial Déménageur
DTSTART: 20211214T090000
DTEND: 20211214T103000
DESCRIPTION: Conférence en ligne (webinars) d'une durée de 1h30 pour découvrir les métiers du déménagement.&nbsp;
END:VEVENT
END:VCALENDAR
