BEGIN:VCALENDAR
VERSION:2.0
METHOD:PUBLISH
X-WR-CALNAME;VALUE=TEXT:Agenda #3857
PRODID:-//Drupal iCal API//EN
BEGIN:VEVENT
SUMMARY: Nimes : Les 1ere BAC PRO O.T.M. du  LP DARBOUX visitent une entreprise
DTSTART: 20211004T120000
DTEND: 20211004T120000
DESCRIPTION: Dans le cadre de la semaine Transport organisée par le Lycée Darboux de Nimes du 4 au 8 octobre prochain, les élèves de 1ere du BAC PRO O.T.M. (Organisation de Transport de Marchandises) visiteront l'entreprise KUEHNE+NAGEL à Gallargues le Montueux.&nbsp;
END:VEVENT
BEGIN:VEVENT
SUMMARY: Nimes : Les 1ere BAC PRO O.T.M. du  LP DARBOUX visitent une entreprise
DTSTART: 20211004T120000
DTEND: 20211004T120000
DESCRIPTION: Dans le cadre de la semaine Transport organisée par le Lycée Darboux de Nimes du 4 au 8 octobre prochain, les élèves de 1ere du BAC PRO O.T.M. (Organisation de Transport de Marchandises) visiteront l'entreprise KUEHNE+NAGEL à Gallargues le Montueux.&nbsp;
END:VEVENT
BEGIN:VEVENT
SUMMARY: Nimes : Les 1ere BAC PRO O.T.M. du  LP DARBOUX visitent une entreprise
DTSTART: 20211004T120000
DTEND: 20211004T120000
DESCRIPTION: Dans le cadre de la semaine Transport organisée par le Lycée Darboux de Nimes du 4 au 8 octobre prochain, les élèves de 1ere du BAC PRO O.T.M. (Organisation de Transport de Marchandises) visiteront l'entreprise KUEHNE+NAGEL à Gallargues le Montueux.&nbsp;
END:VEVENT
END:VCALENDAR
