BEGIN:VCALENDAR
VERSION:2.0
METHOD:PUBLISH
X-WR-CALNAME;VALUE=TEXT:Agenda #3859
PRODID:-//Drupal iCal API//EN
BEGIN:VEVENT
SUMMARY: Les Mercredis de l'AFT: La prévention des Troubles Musculo-Squelettiques (TMS) et du mal de dos
DTSTART: 20211006T080000
DTEND: 20211006T093000
DESCRIPTION: Le RDV hebdomadaire dédié aux entreprises : Les Mercredis de l'AFT&nbsp;

Au programme :&nbsp;

La prévention des Troubles Musculo-Squelettiques (TMS) et du mal de dos
END:VEVENT
END:VCALENDAR
