BEGIN:VCALENDAR
VERSION:2.0
METHOD:PUBLISH
X-WR-CALNAME;VALUE=TEXT:Agenda #3864
PRODID:-//Drupal iCal API//EN
BEGIN:VEVENT
SUMMARY: On poursuit les DAQ 2.0 sur la Bourgogne Franche-Comté !
DTSTART: 20211008T080000
DTEND: 20211008T080000
DESCRIPTION: Après le Chatillonais, Montbard, Beaune, etc nouveau partenariat avec APOR Formation sur le Creusot et Montceau-les-Mines, auprès de stagiaires bénéficiant du dispositif DAQ 2.0.
END:VEVENT
END:VCALENDAR
