BEGIN:VCALENDAR
VERSION:2.0
METHOD:PUBLISH
X-WR-CALNAME;VALUE=TEXT:Agenda #3869
PRODID:-//Drupal iCal API//EN
BEGIN:VEVENT
SUMMARY: Quels sont les métiers dans le secteur du transport de personnes et de marchandises
DTSTART: 20211013T080000
DTEND: 20211013T100000
DESCRIPTION: Le secteur du transport recrute mais quels sont les métiers ?
END:VEVENT
BEGIN:VEVENT
SUMMARY: Quels sont les métiers dans le secteur du transport de personnes et de marchandises
DTSTART: 20211013T080000
DTEND: 20211013T100000
DESCRIPTION: Le secteur du transport recrute mais quels sont les métiers ?
END:VEVENT
BEGIN:VEVENT
SUMMARY: Quels sont les métiers dans le secteur du transport de personnes et de marchandises
DTSTART: 20211013T080000
DTEND: 20211013T100000
DESCRIPTION: Le secteur du transport recrute mais quels sont les métiers ?
END:VEVENT
END:VCALENDAR
