BEGIN:VCALENDAR
VERSION:2.0
METHOD:PUBLISH
X-WR-CALNAME;VALUE=TEXT:Agenda #3871
PRODID:-//Drupal iCal API//EN
BEGIN:VEVENT
SUMMARY: Aude/Ariège : Présentation des métiers Transport Logistique aux Conseillers des Pôles emploi
DTSTART: 20211011T120000
DTEND: 20211011T120000
DESCRIPTION: Une visio conférence en direction de tous les conseillers de Pôle emploi de l'Aude/Ariège sera organisée le Lundi 11 octobre prochain de 14h à 15h30
END:VEVENT
BEGIN:VEVENT
SUMMARY: Aude/Ariège : Présentation des métiers Transport Logistique aux Conseillers des Pôles emploi
DTSTART: 20211011T120000
DTEND: 20211011T120000
DESCRIPTION: Une visio conférence en direction de tous les conseillers de Pôle emploi de l'Aude/Ariège sera organisée le Lundi 11 octobre prochain de 14h à 15h30
END:VEVENT
END:VCALENDAR
