BEGIN:VCALENDAR
VERSION:2.0
METHOD:PUBLISH
X-WR-CALNAME;VALUE=TEXT:Agenda #3877
PRODID:-//Drupal iCal API//EN
BEGIN:VEVENT
SUMMARY: POEC branche : Titre professionnel Tous Véhicules 10 parcours
DTSTART: 20211018T070000
DTEND: 20211018T100000
DESCRIPTION: &nbsp;

Suivre une formation pour obtenir un titre professionnel incluant le permis CE c'est bien !

Mais trouver un emploi dès la sortie, c'est possible dans le cadre de la POEC de la branche Transport à Mont de Marsan, opérateur de formation DUCOS/AFTRAL à Mont de Marsan
END:VEVENT
BEGIN:VEVENT
SUMMARY: POEC branche : Titre professionnel Tous Véhicules 10 parcours
DTSTART: 20211018T070000
DTEND: 20211018T100000
DESCRIPTION: &nbsp;

Suivre une formation pour obtenir un titre professionnel incluant le permis CE c'est bien !

Mais trouver un emploi dès la sortie, c'est possible dans le cadre de la POEC de la branche Transport à Mont de Marsan, opérateur de formation DUCOS/AFTRAL à Mont de Marsan
END:VEVENT
END:VCALENDAR
