BEGIN:VCALENDAR
VERSION:2.0
METHOD:PUBLISH
X-WR-CALNAME;VALUE=TEXT:Agenda #3879
PRODID:-//Drupal iCal API//EN
BEGIN:VEVENT
SUMMARY: Semaine des Missions locales : ZOOM sur le secteur Transport et Logistique
DTSTART: 20211020T080000
DTEND: 20211020T140000
DESCRIPTION: Partenariat avec la Mission Locale de Pau Lons : une journée pour découvrir le secteur et les métiers du transport et de la logistique
END:VEVENT
BEGIN:VEVENT
SUMMARY: Semaine des Missions locales : ZOOM sur le secteur Transport et Logistique
DTSTART: 20211020T080000
DTEND: 20211020T140000
DESCRIPTION: Partenariat avec la Mission Locale de Pau Lons : une journée pour découvrir le secteur et les métiers du transport et de la logistique
END:VEVENT
BEGIN:VEVENT
SUMMARY: Semaine des Missions locales : ZOOM sur le secteur Transport et Logistique
DTSTART: 20211020T080000
DTEND: 20211020T140000
DESCRIPTION: Partenariat avec la Mission Locale de Pau Lons : une journée pour découvrir le secteur et les métiers du transport et de la logistique
END:VEVENT
END:VCALENDAR
