BEGIN:VCALENDAR
VERSION:2.0
METHOD:PUBLISH
X-WR-CALNAME;VALUE=TEXT:Agenda #3881
PRODID:-//Drupal iCal API//EN
BEGIN:VEVENT
SUMMARY: Focus sur les métiers du transport et de la logistique
DTSTART: 20211021T083000
DTEND: 20211021T100000
DESCRIPTION: Intervention auprès d'un groupe de demandeurs d'emploi suivi par Carrière Insertion Mont de Marsan pour présenter le secteur transport et logistique et les différentes activités.&nbsp;
END:VEVENT
BEGIN:VEVENT
SUMMARY: Focus sur les métiers du transport et de la logistique
DTSTART: 20211021T083000
DTEND: 20211021T100000
DESCRIPTION: Intervention auprès d'un groupe de demandeurs d'emploi suivi par Carrière Insertion Mont de Marsan pour présenter le secteur transport et logistique et les différentes activités.&nbsp;
END:VEVENT
END:VCALENDAR
