BEGIN:VCALENDAR
VERSION:2.0
METHOD:PUBLISH
X-WR-CALNAME;VALUE=TEXT:Agenda #3882
PRODID:-//Drupal iCal API//EN
BEGIN:VEVENT
SUMMARY: Semaine Transport Logistique à Bressuire du 13 au 20 octobre 2021
DTSTART: 20211013T070000
DTEND: 20211020T160000
DESCRIPTION: Intéressés par les métiers du Transport et de la Logistique ou tout simplement curieux de découvrir ce secteur&nbsp;? Nous vous proposons une semaine entièrement dédiée à ce domaine.
END:VEVENT
BEGIN:VEVENT
SUMMARY: Semaine Transport Logistique à Bressuire du 13 au 20 octobre 2021
DTSTART: 20211013T070000
DTEND: 20211020T160000
DESCRIPTION: Intéressés par les métiers du Transport et de la Logistique ou tout simplement curieux de découvrir ce secteur&nbsp;? Nous vous proposons une semaine entièrement dédiée à ce domaine.
END:VEVENT
BEGIN:VEVENT
SUMMARY: Semaine Transport Logistique à Bressuire du 13 au 20 octobre 2021
DTSTART: 20211013T070000
DTEND: 20211020T160000
DESCRIPTION: Intéressés par les métiers du Transport et de la Logistique ou tout simplement curieux de découvrir ce secteur&nbsp;? Nous vous proposons une semaine entièrement dédiée à ce domaine.
END:VEVENT
BEGIN:VEVENT
SUMMARY: Semaine Transport Logistique à Bressuire du 13 au 20 octobre 2021
DTSTART: 20211013T070000
DTEND: 20211020T160000
DESCRIPTION: Intéressés par les métiers du Transport et de la Logistique ou tout simplement curieux de découvrir ce secteur&nbsp;? Nous vous proposons une semaine entièrement dédiée à ce domaine.
END:VEVENT
END:VCALENDAR
