BEGIN:VCALENDAR
VERSION:2.0
METHOD:PUBLISH
X-WR-CALNAME;VALUE=TEXT:Agenda #3887
PRODID:-//Drupal iCal API//EN
BEGIN:VEVENT
SUMMARY: Forum Emploi le 19 octobre 2021au Rocher Palmer de Cenon
DTSTART: 20211019T070000
DTEND: 20211019T120000
DESCRIPTION: &nbsp;Forum Emploi de Cenon le 19 octobre 2021 de 9h00 à 14h00 : salle dédiée à&nbsp;un pôle Transport et Logistique avec des entreprises et les centres de formation du secteur.
END:VEVENT
BEGIN:VEVENT
SUMMARY: Forum Emploi le 19 octobre 2021au Rocher Palmer de Cenon
DTSTART: 20211019T070000
DTEND: 20211019T120000
DESCRIPTION: &nbsp;Forum Emploi de Cenon le 19 octobre 2021 de 9h00 à 14h00 : salle dédiée à&nbsp;un pôle Transport et Logistique avec des entreprises et les centres de formation du secteur.
END:VEVENT
BEGIN:VEVENT
SUMMARY: Forum Emploi le 19 octobre 2021au Rocher Palmer de Cenon
DTSTART: 20211019T070000
DTEND: 20211019T120000
DESCRIPTION: &nbsp;Forum Emploi de Cenon le 19 octobre 2021 de 9h00 à 14h00 : salle dédiée à&nbsp;un pôle Transport et Logistique avec des entreprises et les centres de formation du secteur.
END:VEVENT
END:VCALENDAR
