BEGIN:VCALENDAR
VERSION:2.0
METHOD:PUBLISH
X-WR-CALNAME;VALUE=TEXT:Agenda #3888
PRODID:-//Drupal iCal API//EN
BEGIN:VEVENT
SUMMARY: Semaine des Missions Locales : Zoom sur le secteur du transport et de la logistique le 26 octobre à la Mission Locale de Bordeaux
DTSTART: 20211026T080000
DTEND: 20211026T100000
DESCRIPTION: Présentation des métiers, des filières de formation et de l'emploi aux jeunes de la Mission Locale de&nbsp;bordeaux le 26 octobre 2021 à 10h00 .
END:VEVENT
BEGIN:VEVENT
SUMMARY: Semaine des Missions Locales : Zoom sur le secteur du transport et de la logistique le 26 octobre à la Mission Locale de Bordeaux
DTSTART: 20211026T080000
DTEND: 20211026T100000
DESCRIPTION: Présentation des métiers, des filières de formation et de l'emploi aux jeunes de la Mission Locale de&nbsp;bordeaux le 26 octobre 2021 à 10h00 .
END:VEVENT
BEGIN:VEVENT
SUMMARY: Semaine des Missions Locales : Zoom sur le secteur du transport et de la logistique le 26 octobre à la Mission Locale de Bordeaux
DTSTART: 20211026T080000
DTEND: 20211026T100000
DESCRIPTION: Présentation des métiers, des filières de formation et de l'emploi aux jeunes de la Mission Locale de&nbsp;bordeaux le 26 octobre 2021 à 10h00 .
END:VEVENT
END:VCALENDAR
