BEGIN:VCALENDAR
VERSION:2.0
METHOD:PUBLISH
X-WR-CALNAME;VALUE=TEXT:Agenda #3890
PRODID:-//Drupal iCal API//EN
BEGIN:VEVENT
SUMMARY: Log'Avenir en Centre - Val de Loire
DTSTART: 20211013T073000
DTEND: 20211013T143000
DESCRIPTION: Le 13 octobre à Meung-sur-Loire, de 9h30 à 16h30,&nbsp;venez à la rencontre des acteurs de la logistique !&nbsp;

Des offres d'emplois, des ateliers de découverte des métiers de la logistique et des mini-conférences vous y seront proposés.
END:VEVENT
END:VCALENDAR
