BEGIN:VCALENDAR
VERSION:2.0
METHOD:PUBLISH
X-WR-CALNAME;VALUE=TEXT:Agenda #3898
PRODID:-//Drupal iCal API//EN
BEGIN:VEVENT
SUMMARY: Atelier "Se former sur les métiers du transport et de la logistique" à Saint Yrieix la Perche
DTSTART: 20211015T073000
DTEND: 20211015T090000
DESCRIPTION: L’AFT vous attend pour un atelier&nbsp;«&nbsp;Se Former&nbsp;»&nbsp;sur les&nbsp;métiers du transport et de la logistique&nbsp;à l'initiative de l'ERIP SUD HAUTE-VIENNE

Vendredi 15 octobre de 9h30 à 11h&nbsp;&nbsp;au Foyer de Progrès Agricole avenue du 8 mai 1945 à St Yrieix la Perche.

&nbsp;

Merci de bien vouloir m’envoyer vos positionnements pour inscription&nbsp;à&nbsp;eripsudhautevienne@mlr87.fr
END:VEVENT
END:VCALENDAR
