BEGIN:VCALENDAR
VERSION:2.0
METHOD:PUBLISH
X-WR-CALNAME;VALUE=TEXT:Agenda #3900
PRODID:-//Drupal iCal API//EN
BEGIN:VEVENT
SUMMARY: Limoges à fond sur les métiers: Objectif Transport Logistique
DTSTART: 20211103T130000
DTEND: 20211109T130000
DESCRIPTION: Venez découvrir les métiers du Transport et de la Logistique dans les locaux de CAP METIERS LIMOGES (Carré Jourdan - 13 place Jourdan) avec 3 focus : la conduite, la logistique et l'exploitation.

C'est ouvert à tous sur inscription :&nbsp;animation-limoges@cap-metiers.pro
END:VEVENT
END:VCALENDAR
