BEGIN:VCALENDAR
VERSION:2.0
METHOD:PUBLISH
X-WR-CALNAME;VALUE=TEXT:Agenda #3903
PRODID:-//Drupal iCal API//EN
BEGIN:VEVENT
SUMMARY: Toulouse : "Je parle de mon métier aux collégiens et collégiennes"
DTSTART: 20211021T070000
DTEND: 20211021T070000
DESCRIPTION: Lors du "Grand Forum de l'Education Prioritaire" organisé par JobIRL en partenariat avec la Mairie de Toulouse, La Préfecture de la Haute Garonne, le Rectorat, FACE Grand Toulouse, le MEDEF et Alliance pour l'Education,&nbsp;l'AFT aura l'occasion de présenter les métiers du Transport et de la Logistique aux collégien et collégiennes de 3eme le 21 octobre prochain.
END:VEVENT
BEGIN:VEVENT
SUMMARY: Toulouse : "Je parle de mon métier aux collégiens et collégiennes"
DTSTART: 20211021T070000
DTEND: 20211021T070000
DESCRIPTION: Lors du "Grand Forum de l'Education Prioritaire" organisé par JobIRL en partenariat avec la Mairie de Toulouse, La Préfecture de la Haute Garonne, le Rectorat, FACE Grand Toulouse, le MEDEF et Alliance pour l'Education,&nbsp;l'AFT aura l'occasion de présenter les métiers du Transport et de la Logistique aux collégien et collégiennes de 3eme le 21 octobre prochain.
END:VEVENT
BEGIN:VEVENT
SUMMARY: Toulouse : "Je parle de mon métier aux collégiens et collégiennes"
DTSTART: 20211021T070000
DTEND: 20211021T070000
DESCRIPTION: Lors du "Grand Forum de l'Education Prioritaire" organisé par JobIRL en partenariat avec la Mairie de Toulouse, La Préfecture de la Haute Garonne, le Rectorat, FACE Grand Toulouse, le MEDEF et Alliance pour l'Education,&nbsp;l'AFT aura l'occasion de présenter les métiers du Transport et de la Logistique aux collégien et collégiennes de 3eme le 21 octobre prochain.
END:VEVENT
END:VCALENDAR
