BEGIN:VCALENDAR
VERSION:2.0
METHOD:PUBLISH
X-WR-CALNAME;VALUE=TEXT:Agenda #3905
PRODID:-//Drupal iCal API//EN
BEGIN:VEVENT
SUMMARY: Le Transport et la Logistique pour les 2nde GATL du LP DAGUIN Mérignac le 18 octobre 2021
DTSTART: 20211018T120000
DTEND: 20211018T140000
DESCRIPTION: L'orientation professionnelle dès la première : transport , logistique ?

Lundi 18 octobre à 14h00 seront présentés les métiers, les filières de formation et l'emploi aux élèves de seconde GATL du Lycée Fernand DAGUIN de Mérignac.

&nbsp;
END:VEVENT
END:VCALENDAR
