BEGIN:VCALENDAR
VERSION:2.0
METHOD:PUBLISH
X-WR-CALNAME;VALUE=TEXT:Agenda #3935
PRODID:-//Drupal iCal API//EN
BEGIN:VEVENT
SUMMARY: Forum Métiers au collège de la Belle de Mai à Marseille
DTSTART: 20211022T070000
DTEND: 20211022T100000
DESCRIPTION: L'AFT PACA va présenter aux élèves du collège de la Belle de Mai les métiers du transport et de la logistique.
END:VEVENT
END:VCALENDAR
