BEGIN:VCALENDAR
VERSION:2.0
METHOD:PUBLISH
X-WR-CALNAME;VALUE=TEXT:Agenda #3936
PRODID:-//Drupal iCal API//EN
BEGIN:VEVENT
SUMMARY: Découverte des métiers du transport et de la logistique à la cité des métiers de Marseille
DTSTART: 20211027T080000
DTEND: 20211027T100000
DESCRIPTION: Une fois par mois, l'AFT PACA se rend à la cité des métiers de Marseille afin de présenter les métiers du transport et de la logistique.
END:VEVENT
END:VCALENDAR
