BEGIN:VCALENDAR
VERSION:2.0
METHOD:PUBLISH
X-WR-CALNAME;VALUE=TEXT:Agenda #3937
PRODID:-//Drupal iCal API//EN
BEGIN:VEVENT
SUMMARY: La place de l'emploi - Les Arcs-sur-Argens
DTSTART: 20211109T120000
DTEND: 20211109T160000
DESCRIPTION: L'AFT PACA participe à cet événement inédit destiné à faire découvrir des métiers qui recrutent aux personnes éloignées de l'emploi.
END:VEVENT
END:VCALENDAR
