BEGIN:VCALENDAR
VERSION:2.0
METHOD:PUBLISH
X-WR-CALNAME;VALUE=TEXT:Agenda #3938
PRODID:-//Drupal iCal API//EN
BEGIN:VEVENT
SUMMARY: Info Métiers transport-logistique à la Cité des métiers de Marseille
DTSTART: 20211116T090000
DTEND: 20211116T110000
DESCRIPTION: Venez découvrir les métiers du transport et de la logistique lors de l'info métiers animée par l'AFT PACA à la Cité des métiers de Marseille.
END:VEVENT
END:VCALENDAR
