BEGIN:VCALENDAR
VERSION:2.0
METHOD:PUBLISH
X-WR-CALNAME;VALUE=TEXT:Agenda #3939
PRODID:-//Drupal iCal API//EN
BEGIN:VEVENT
SUMMARY: Focus Métiers PACA - les métiers de l'exploitation
DTSTART: 20211117T130000
DTEND: 20211117T143000
DESCRIPTION: Les métiers de l'exploitation recrutent en PACA ! Venez découvrir ces emplois en tension lors de notre Focus Métiers.

&nbsp;
END:VEVENT
END:VCALENDAR
