BEGIN:VCALENDAR
VERSION:2.0
METHOD:PUBLISH
X-WR-CALNAME;VALUE=TEXT:Agenda #3947
PRODID:-//Drupal iCal API//EN
BEGIN:VEVENT
SUMMARY: Focus métiers du transport et de la logistique au sein de la Mission Locale de Bordeaux le 26 octobre 2021
DTSTART: 20211026T080000
DTEND: 20211026T100000
DESCRIPTION: Presentation des métiers, des filières de formation et de l'emploi au public de la Mission Locale de Bordeaux&nbsp;
END:VEVENT
END:VCALENDAR
