BEGIN:VCALENDAR
VERSION:2.0
METHOD:PUBLISH
X-WR-CALNAME;VALUE=TEXT:Agenda #3950
PRODID:-//Drupal iCal API//EN
BEGIN:VEVENT
SUMMARY: Obtenir son permis CE dans le cadre de la POEC branche transport
DTSTART: 20211027T113000
DTEND: 20211027T140000
DESCRIPTION: La formation permis CE démarre le 22 novembre et est financée dans le cadre d'une POEC
END:VEVENT
BEGIN:VEVENT
SUMMARY: Obtenir son permis CE dans le cadre de la POEC branche transport
DTSTART: 20211027T113000
DTEND: 20211027T140000
DESCRIPTION: La formation permis CE démarre le 22 novembre et est financée dans le cadre d'une POEC
END:VEVENT
BEGIN:VEVENT
SUMMARY: Obtenir son permis CE dans le cadre de la POEC branche transport
DTSTART: 20211027T113000
DTEND: 20211027T140000
DESCRIPTION: La formation permis CE démarre le 22 novembre et est financée dans le cadre d'une POEC
END:VEVENT
END:VCALENDAR
