BEGIN:VCALENDAR
VERSION:2.0
METHOD:PUBLISH
X-WR-CALNAME;VALUE=TEXT:Agenda #3952
PRODID:-//Drupal iCal API//EN
BEGIN:VEVENT
SUMMARY: Informations sur les métiers du transport au Pôle Emploi de Villefranche
DTSTART: 20211104T073000
DTEND: 20211104T073000
DESCRIPTION: Vous êtes demandeur d'emploi et recherchez un poste dans un secteur innovant et qui recrute ?

Vous aimez conduire et le contact avec les gens ?

Le transport est fait pour vous !
END:VEVENT
END:VCALENDAR
