BEGIN:VCALENDAR
VERSION:2.0
METHOD:PUBLISH
X-WR-CALNAME;VALUE=TEXT:Agenda #3961
PRODID:-//Drupal iCal API//EN
BEGIN:VEVENT
SUMMARY: GENERAC : Les métiers du Transport et de la Logistique
DTSTART: 20231214T080000
DTEND: 20231214T080000
DESCRIPTION: L'AFT fera découvrir, jeudi 14 décembre&nbsp;prochain de 9h à 11h,&nbsp;les métiers du Transport et de la Logistique et ses opportunités en terme d'emploi

&nbsp;

&nbsp;
END:VEVENT
BEGIN:VEVENT
SUMMARY: GENERAC : Les métiers du Transport et de la Logistique
DTSTART: 20231214T080000
DTEND: 20231214T080000
DESCRIPTION: L'AFT fera découvrir, jeudi 14 décembre&nbsp;prochain de 9h à 11h,&nbsp;les métiers du Transport et de la Logistique et ses opportunités en terme d'emploi

&nbsp;

&nbsp;
END:VEVENT
BEGIN:VEVENT
SUMMARY: GENERAC : Les métiers du Transport et de la Logistique
DTSTART: 20231214T080000
DTEND: 20231214T080000
DESCRIPTION: L'AFT fera découvrir, jeudi 14 décembre&nbsp;prochain de 9h à 11h,&nbsp;les métiers du Transport et de la Logistique et ses opportunités en terme d'emploi

&nbsp;

&nbsp;
END:VEVENT
END:VCALENDAR
