BEGIN:VCALENDAR
VERSION:2.0
METHOD:PUBLISH
X-WR-CALNAME;VALUE=TEXT:Agenda #3966
PRODID:-//Drupal iCal API//EN
BEGIN:VEVENT
SUMMARY: TOUS MOBILISES : SPECIAL Conducteur de transport marchandises
DTSTART: 20211108T130000
DTEND: 20211108T153000
DESCRIPTION: Recueillir toutes les informations sur le métier de conducteur-rice en transport de marchandises.
END:VEVENT
BEGIN:VEVENT
SUMMARY: TOUS MOBILISES : SPECIAL Conducteur de transport marchandises
DTSTART: 20211108T130000
DTEND: 20211108T153000
DESCRIPTION: Recueillir toutes les informations sur le métier de conducteur-rice en transport de marchandises.
END:VEVENT
BEGIN:VEVENT
SUMMARY: TOUS MOBILISES : SPECIAL Conducteur de transport marchandises
DTSTART: 20211108T130000
DTEND: 20211108T153000
DESCRIPTION: Recueillir toutes les informations sur le métier de conducteur-rice en transport de marchandises.
END:VEVENT
END:VCALENDAR
