BEGIN:VCALENDAR
VERSION:2.0
METHOD:PUBLISH
X-WR-CALNAME;VALUE=TEXT:Agenda #3969
PRODID:-//Drupal iCal API//EN
BEGIN:VEVENT
SUMMARY: Salons/Forums en Auvergne
DTSTART: 20211026T220000
DTEND: 20220227T230000
DESCRIPTION: Les Salons/forums sont de retour&nbsp;sur la Région Auvergne !&nbsp;

Vous souhaitez vous informer et vous orienter sur les métiers et les formations en Transport et Logistique. N'hésitez plus, venez nous rencontrer !
END:VEVENT
BEGIN:VEVENT
SUMMARY: Salons/Forums en Auvergne
DTSTART: 20211026T220000
DTEND: 20220227T230000
DESCRIPTION: Les Salons/forums sont de retour&nbsp;sur la Région Auvergne !&nbsp;

Vous souhaitez vous informer et vous orienter sur les métiers et les formations en Transport et Logistique. N'hésitez plus, venez nous rencontrer !
END:VEVENT
BEGIN:VEVENT
SUMMARY: Salons/Forums en Auvergne
DTSTART: 20211026T220000
DTEND: 20220227T230000
DESCRIPTION: Les Salons/forums sont de retour&nbsp;sur la Région Auvergne !&nbsp;

Vous souhaitez vous informer et vous orienter sur les métiers et les formations en Transport et Logistique. N'hésitez plus, venez nous rencontrer !
END:VEVENT
END:VCALENDAR
