BEGIN:VCALENDAR
VERSION:2.0
METHOD:PUBLISH
X-WR-CALNAME;VALUE=TEXT:Agenda #3971
PRODID:-//Drupal iCal API//EN
BEGIN:VEVENT
SUMMARY: "Orientation des familles 2021-2022" : des conseils individualisés d'orientation pour les jeunes et leurs parents
DTSTART: 20211028T080000
DTEND: 20220630T150000
DESCRIPTION: L’AFT Auvergne-Rhône-Alpes&nbsp;propose aux jeunes et à leur famille du Cantal, de la Drôme, de la Savoie et de la Haute-Savoie, un accompagnement individualisé, pour les aider dans leur orientation professionnelle.
END:VEVENT
BEGIN:VEVENT
SUMMARY: "Orientation des familles 2021-2022" : des conseils individualisés d'orientation pour les jeunes et leurs parents
DTSTART: 20211028T080000
DTEND: 20220630T150000
DESCRIPTION: L’AFT Auvergne-Rhône-Alpes&nbsp;propose aux jeunes et à leur famille du Cantal, de la Drôme, de la Savoie et de la Haute-Savoie, un accompagnement individualisé, pour les aider dans leur orientation professionnelle.
END:VEVENT
END:VCALENDAR
