BEGIN:VCALENDAR
VERSION:2.0
METHOD:PUBLISH
X-WR-CALNAME;VALUE=TEXT:Agenda #3979
PRODID:-//Drupal iCal API//EN
BEGIN:VEVENT
SUMMARY: Vous êtes demandeur d'emploi en Ile-de-France et recherchez des informations sur les métiers du transport ?
DTSTART: 20211208T090000
DTEND: 20211208T110000
DESCRIPTION: Rendez-vous le 8 décembre 2021 au Tremblay-sur-Mauldre pour une information collective sur les métiers du transport de voyageurs et de marchandises.
END:VEVENT
BEGIN:VEVENT
SUMMARY: Vous êtes demandeur d'emploi en Ile-de-France et recherchez des informations sur les métiers du transport ?
DTSTART: 20211208T090000
DTEND: 20211208T110000
DESCRIPTION: Rendez-vous le 8 décembre 2021 au Tremblay-sur-Mauldre pour une information collective sur les métiers du transport de voyageurs et de marchandises.
END:VEVENT
END:VCALENDAR
