BEGIN:VCALENDAR
VERSION:2.0
METHOD:PUBLISH
X-WR-CALNAME;VALUE=TEXT:Agenda #3986
PRODID:-//Drupal iCal API//EN
BEGIN:VEVENT
SUMMARY: L'AFT sera présente au Forum Sanitaire de Rethel (08)
DTSTART: 20211116T083000
DTEND: 20211116T113000
DESCRIPTION: L'AFT sera présente le 16 novembre 2021 de 09h30 à 12h30&nbsp;au Forum spécial sanitaire et social organisé par la Mission Locale Sud Ardennes.
END:VEVENT
END:VCALENDAR
