BEGIN:VCALENDAR
VERSION:2.0
METHOD:PUBLISH
X-WR-CALNAME;VALUE=TEXT:Agenda #3989
PRODID:-//Drupal iCal API//EN
BEGIN:VEVENT
SUMMARY: Matin de l'emploi des métiers du transport et de la logistique
DTSTART: 20211109T090000
DTEND: 20211109T090000
DESCRIPTION: L'AFT s'associe à&nbsp;Est-ensemble,&nbsp; l’Etablissement Public Territorial qui regroupe 9 villes&nbsp;de&nbsp;l’Est-parisien au sein&nbsp;de&nbsp;la métropole du Grand Paris, pour vous informer sur les métiers du transport et de la logistique.
END:VEVENT
END:VCALENDAR
