BEGIN:VCALENDAR
VERSION:2.0
METHOD:PUBLISH
X-WR-CALNAME;VALUE=TEXT:Agenda #3990
PRODID:-//Drupal iCal API//EN
BEGIN:VEVENT
SUMMARY: Salon de l'Orientation Onisep - 3 jours intenses pour découvrir les métiers du transport et de la logistique
DTSTART: 20211126T083000
DTEND: 20211128T170000
DESCRIPTION: L'équipe de la délégation régionale Ile-de-France de l'AFT, durant les 3 jours du salon de l'Orientation Onisep, informera, sensibilisera et fera découvrir à travers un dispositif de réalité virtuelle et son simulateur de conduite&nbsp;les métiers du transport et de la logistique aux nombreux visiteurs du salon.

Retrouvez-nous Pavillon 7.2
END:VEVENT
END:VCALENDAR
