BEGIN:VCALENDAR
VERSION:2.0
METHOD:PUBLISH
X-WR-CALNAME;VALUE=TEXT:Agenda #3997
PRODID:-//Drupal iCal API//EN
BEGIN:VEVENT
SUMMARY: Montpellier : HANDIJOB
DTSTART: 20211116T130000
DTEND: 20211116T130000
DESCRIPTION: Mardi 26 novembre prochain de 14h à 17h aura lieu la 10ème édition du Forum Emploi Handicap HANDI'JOB.

Cet évènement est co-organisé par Cap Emploi Hérault et Pôle Emploi en partenariat avec l'Agefiph.

L'AFT Occitanie animera un atelier sur les métiers du transport et de la logistique.&nbsp;

&nbsp;

&nbsp;
END:VEVENT
BEGIN:VEVENT
SUMMARY: Montpellier : HANDIJOB
DTSTART: 20211116T130000
DTEND: 20211116T130000
DESCRIPTION: Mardi 26 novembre prochain de 14h à 17h aura lieu la 10ème édition du Forum Emploi Handicap HANDI'JOB.

Cet évènement est co-organisé par Cap Emploi Hérault et Pôle Emploi en partenariat avec l'Agefiph.

L'AFT Occitanie animera un atelier sur les métiers du transport et de la logistique.&nbsp;

&nbsp;

&nbsp;
END:VEVENT
BEGIN:VEVENT
SUMMARY: Montpellier : HANDIJOB
DTSTART: 20211116T130000
DTEND: 20211116T130000
DESCRIPTION: Mardi 26 novembre prochain de 14h à 17h aura lieu la 10ème édition du Forum Emploi Handicap HANDI'JOB.

Cet évènement est co-organisé par Cap Emploi Hérault et Pôle Emploi en partenariat avec l'Agefiph.

L'AFT Occitanie animera un atelier sur les métiers du transport et de la logistique.&nbsp;

&nbsp;

&nbsp;
END:VEVENT
END:VCALENDAR
