BEGIN:VCALENDAR
VERSION:2.0
METHOD:PUBLISH
X-WR-CALNAME;VALUE=TEXT:Agenda #3999
PRODID:-//Drupal iCal API//EN
BEGIN:VEVENT
SUMMARY: Montpellier : Spéciale Voyageurs
DTSTART: 20211118T130000
DTEND: 20211118T130000
DESCRIPTION: Journée Spéciale Voyageurs le Jeudi 18 novembre prochain de 14h à 17h&nbsp;organisée par la Région Occitanie,&nbsp;la Fédération Nationale des Transports Voyageurs du Languedoc Roussillon, l'AFTRAL et l'AFT à destination des prescripteurs d'emploi du Territoire.&nbsp;
END:VEVENT
BEGIN:VEVENT
SUMMARY: Montpellier : Spéciale Voyageurs
DTSTART: 20211118T130000
DTEND: 20211118T130000
DESCRIPTION: Journée Spéciale Voyageurs le Jeudi 18 novembre prochain de 14h à 17h&nbsp;organisée par la Région Occitanie,&nbsp;la Fédération Nationale des Transports Voyageurs du Languedoc Roussillon, l'AFTRAL et l'AFT à destination des prescripteurs d'emploi du Territoire.&nbsp;
END:VEVENT
BEGIN:VEVENT
SUMMARY: Montpellier : Spéciale Voyageurs
DTSTART: 20211118T130000
DTEND: 20211118T130000
DESCRIPTION: Journée Spéciale Voyageurs le Jeudi 18 novembre prochain de 14h à 17h&nbsp;organisée par la Région Occitanie,&nbsp;la Fédération Nationale des Transports Voyageurs du Languedoc Roussillon, l'AFTRAL et l'AFT à destination des prescripteurs d'emploi du Territoire.&nbsp;
END:VEVENT
END:VCALENDAR
