BEGIN:VCALENDAR
VERSION:2.0
METHOD:PUBLISH
X-WR-CALNAME;VALUE=TEXT:Agenda #4034
PRODID:-//Drupal iCal API//EN
BEGIN:VEVENT
SUMMARY: TOULOUSE : S'orienter vers le transport et la logistique avec Vidéo 3/4 et l'AFT
DTSTART: 20220215T130000
DTEND: 20220215T130000
DESCRIPTION: L' AFT Occitanie interviendra à la demande de VIDEO 3/4 de Toulouse, le&nbsp;Mardi 15 février 2022 de 14h à 16h30&nbsp;pour présenter aux&nbsp;personnes en recherche d'emploi et d'orientation professionnel, les métiers du transport et de la logistique.&nbsp;
END:VEVENT
BEGIN:VEVENT
SUMMARY: TOULOUSE : S'orienter vers le transport et la logistique avec Vidéo 3/4 et l'AFT
DTSTART: 20220215T130000
DTEND: 20220215T130000
DESCRIPTION: L' AFT Occitanie interviendra à la demande de VIDEO 3/4 de Toulouse, le&nbsp;Mardi 15 février 2022 de 14h à 16h30&nbsp;pour présenter aux&nbsp;personnes en recherche d'emploi et d'orientation professionnel, les métiers du transport et de la logistique.&nbsp;
END:VEVENT
BEGIN:VEVENT
SUMMARY: TOULOUSE : S'orienter vers le transport et la logistique avec Vidéo 3/4 et l'AFT
DTSTART: 20220215T130000
DTEND: 20220215T130000
DESCRIPTION: L' AFT Occitanie interviendra à la demande de VIDEO 3/4 de Toulouse, le&nbsp;Mardi 15 février 2022 de 14h à 16h30&nbsp;pour présenter aux&nbsp;personnes en recherche d'emploi et d'orientation professionnel, les métiers du transport et de la logistique.&nbsp;
END:VEVENT
END:VCALENDAR
