BEGIN:VCALENDAR
VERSION:2.0
METHOD:PUBLISH
X-WR-CALNAME;VALUE=TEXT:Agenda #4088
PRODID:-//Drupal iCal API//EN
BEGIN:VEVENT
SUMMARY: Salon du lycéen et de l’étudiant de Poitiers les 14 et 15 janvier 2022
DTSTART: 20220114T080000
DTEND: 20220115T160000
DESCRIPTION: Lycéens, étudiants, vous avez rendez-vous avec votre avenir&nbsp;!
END:VEVENT
BEGIN:VEVENT
SUMMARY: Salon du lycéen et de l’étudiant de Poitiers les 14 et 15 janvier 2022
DTSTART: 20220114T080000
DTEND: 20220115T160000
DESCRIPTION: Lycéens, étudiants, vous avez rendez-vous avec votre avenir&nbsp;!
END:VEVENT
END:VCALENDAR
