BEGIN:VCALENDAR
VERSION:2.0
METHOD:PUBLISH
X-WR-CALNAME;VALUE=TEXT:Agenda #4187
PRODID:-//Drupal iCal API//EN
BEGIN:VEVENT
SUMMARY: Occitanie : Focus métiers Transport logistique à destination des établissements scolaires
DTSTART: 20220215T090000
DTEND: 20220215T090000
DESCRIPTION: Mardi 15 février prochain aura lieu un&nbsp;Focus métiers Transport logistique animé par l'AFT Occitanie sur le thème "&nbsp;Les métiers d'organisation Transport et Logistique"&nbsp;en visio conférence.

&nbsp;
END:VEVENT
END:VCALENDAR
