BEGIN:VCALENDAR
VERSION:2.0
METHOD:PUBLISH
X-WR-CALNAME;VALUE=TEXT:Agenda #4256
PRODID:-//Drupal iCal API//EN
BEGIN:VEVENT
SUMMARY: La Nuit de l'orientation à Clermont-Ferrand
DTSTART: 20220303T163000
DTEND: 20220303T193000
DESCRIPTION: L'AFT Auvergne Rhône-Alpes sera présente lors de la nuit de l'orientation.

Une soirée unique&nbsp;pour faire découvrir nos métiers et formations aux jeunes et les aider dans leur orientation.&nbsp;
END:VEVENT
BEGIN:VEVENT
SUMMARY: La Nuit de l'orientation à Clermont-Ferrand
DTSTART: 20220303T163000
DTEND: 20220303T193000
DESCRIPTION: L'AFT Auvergne Rhône-Alpes sera présente lors de la nuit de l'orientation.

Une soirée unique&nbsp;pour faire découvrir nos métiers et formations aux jeunes et les aider dans leur orientation.&nbsp;
END:VEVENT
BEGIN:VEVENT
SUMMARY: La Nuit de l'orientation à Clermont-Ferrand
DTSTART: 20220303T163000
DTEND: 20220303T193000
DESCRIPTION: L'AFT Auvergne Rhône-Alpes sera présente lors de la nuit de l'orientation.

Une soirée unique&nbsp;pour faire découvrir nos métiers et formations aux jeunes et les aider dans leur orientation.&nbsp;
END:VEVENT
END:VCALENDAR
