BEGIN:VCALENDAR
VERSION:2.0
METHOD:PUBLISH
X-WR-CALNAME;VALUE=TEXT:Agenda #4264
PRODID:-//Drupal iCal API//EN
BEGIN:VEVENT
SUMMARY: ?Nouveauté : Les Prescript'heures Pays de la Loire
DTSTART: 20220704T120000
DTEND: 20220704T133000
DESCRIPTION: ?Nouveauté : Les Prescript'heures Pays de la Loire

&nbsp;

Des webinaires thématiques&nbsp;proposés par l'#AFT&nbsp;Pays de la Loire, destinés aux conseillers et professionnels de l’#orientation&nbsp;et de l’#insertion&nbsp;pour les aider à tout savoir sur les&nbsp;#métiers&nbsp;et&nbsp;#formations&nbsp;&nbsp;du secteur&nbsp;#transport&nbsp; et&nbsp;#logistique!


Le 04 juillet à 14h00&nbsp;: Découvrez le secteur du Transport Sanitaire

&nbsp;

&nbsp;
END:VEVENT
BEGIN:VEVENT
SUMMARY: ?Nouveauté : Les Prescript'heures Pays de la Loire
DTSTART: 20220704T120000
DTEND: 20220704T133000
DESCRIPTION: ?Nouveauté : Les Prescript'heures Pays de la Loire

&nbsp;

Des webinaires thématiques&nbsp;proposés par l'#AFT&nbsp;Pays de la Loire, destinés aux conseillers et professionnels de l’#orientation&nbsp;et de l’#insertion&nbsp;pour les aider à tout savoir sur les&nbsp;#métiers&nbsp;et&nbsp;#formations&nbsp;&nbsp;du secteur&nbsp;#transport&nbsp; et&nbsp;#logistique!


Le 04 juillet à 14h00&nbsp;: Découvrez le secteur du Transport Sanitaire

&nbsp;

&nbsp;
END:VEVENT
BEGIN:VEVENT
SUMMARY: ?Nouveauté : Les Prescript'heures Pays de la Loire
DTSTART: 20220704T120000
DTEND: 20220704T133000
DESCRIPTION: ?Nouveauté : Les Prescript'heures Pays de la Loire

&nbsp;

Des webinaires thématiques&nbsp;proposés par l'#AFT&nbsp;Pays de la Loire, destinés aux conseillers et professionnels de l’#orientation&nbsp;et de l’#insertion&nbsp;pour les aider à tout savoir sur les&nbsp;#métiers&nbsp;et&nbsp;#formations&nbsp;&nbsp;du secteur&nbsp;#transport&nbsp; et&nbsp;#logistique!


Le 04 juillet à 14h00&nbsp;: Découvrez le secteur du Transport Sanitaire

&nbsp;

&nbsp;
END:VEVENT
END:VCALENDAR
