BEGIN:VCALENDAR
VERSION:2.0
METHOD:PUBLISH
X-WR-CALNAME;VALUE=TEXT:Agenda #4268
PRODID:-//Drupal iCal API//EN
BEGIN:VEVENT
SUMMARY: les Prescript'heures Nouvelle-Aquitaine
DTSTART: 20220216T090000
DTEND: 20220216T103000
DESCRIPTION: Des webinaires thématiques proposés par l'#AFT&nbsp;Nouvelle-Aquitaine destinés aux conseillers et professionnels de l’#orientation&nbsp;et de l’#insertion&nbsp;pour les aider à tout savoir sur les&nbsp;#métiers&nbsp;et&nbsp;#formations&nbsp;du secteur&nbsp;#transport&nbsp;#logistique&nbsp;!
END:VEVENT
END:VCALENDAR
