BEGIN:VCALENDAR
VERSION:2.0
METHOD:PUBLISH
X-WR-CALNAME;VALUE=TEXT:Agenda #4276
PRODID:-//Drupal iCal API//EN
BEGIN:VEVENT
SUMMARY: Aquitec à Bordeaux, le salon de l'orientation, de la formation, de l'emploi et des métiers
DTSTART: 20220204T080000
DTEND: 20220206T160000
DESCRIPTION: Du 4 au 6&nbsp;février 2022, l’AFT&nbsp;va déployer&nbsp;son stand comprenant le simulateur de conduite sur le salon Aquitec. Venez nombreux l'essayer et surtout découvrir les métiers, les filières de formation et l'emploi dans le secteur du transport et de la logistique.
END:VEVENT
END:VCALENDAR
