BEGIN:VCALENDAR
VERSION:2.0
METHOD:PUBLISH
X-WR-CALNAME;VALUE=TEXT:Agenda #4278
PRODID:-//Drupal iCal API//EN
BEGIN:VEVENT
SUMMARY: Apprentis et collégiens de Vallon Bonnevaux (38) découvrent le Transport et la Logistique
DTSTART: 20220128T090000
DTEND: 20220128T150000
DESCRIPTION: Pour les aider dans leur parcours vocationnel, l’AFT Auvergne-Rhône-Alpes leur présente les métiers et formations Transport et Logistique.
END:VEVENT
BEGIN:VEVENT
SUMMARY: Apprentis et collégiens de Vallon Bonnevaux (38) découvrent le Transport et la Logistique
DTSTART: 20220128T090000
DTEND: 20220128T150000
DESCRIPTION: Pour les aider dans leur parcours vocationnel, l’AFT Auvergne-Rhône-Alpes leur présente les métiers et formations Transport et Logistique.
END:VEVENT
END:VCALENDAR
